BEGIN:VCALENDAR
VERSION:2.0
PRODID:-//wp-events-plugin.com//7.2.3.1//EN
TZID:Europe/Berlin
X-WR-TIMEZONE:Europe/Berlin
BEGIN:VEVENT
UID:90@taichi-sonthofen.com
DTSTART;TZID=Europe/Berlin:20220603T190000
DTEND;TZID=Europe/Berlin:20220603T194500
DTSTAMP:20220525T153901Z
URL:https://taichi-sonthofen.com/events/18-figuren-der-harmonie/
SUMMARY:Online - 18 Figuren der Harmonie
DESCRIPTION:Shibashi ist das Qigong der 18 Bewegungen eine Zusammenstellung
  von Übungen aus dem Qigong und Taichi.\nDie Kombination der Übungen erg
 ibt einen sehr schönen Bewegungsfluss.\nEs dient der Förderung von Vital
 ität\, Minderung von Stress\, Stärkung der Muskeln\, Gelenke und des Kre
 islaufs sowie der Anregung der Organe.\n\n
LOCATION:https://us02web.zoom.us/j/9514236064?pwd=anp1N05ZaDlEajY2NDd5emJla
 EJBUT09
END:VEVENT
BEGIN:VTIMEZONE
TZID:Europe/Berlin
X-LIC-LOCATION:Europe/Berlin
BEGIN:DAYLIGHT
DTSTART:20220327T030000
TZOFFSETFROM:+0100
TZOFFSETTO:+0200
TZNAME:CEST
END:DAYLIGHT
END:VTIMEZONE
END:VCALENDAR