BEGIN:VCALENDAR
VERSION:2.0
PRODID:-//wp-events-plugin.com//7.2.3.1//EN
TZID:Europe/Berlin
X-WR-TIMEZONE:Europe/Berlin
BEGIN:VEVENT
UID:352@taichi-sonthofen.com
DTSTART;TZID=Europe/Berlin:20231220T190000
DTEND;TZID=Europe/Berlin:20231220T200000
DTSTAMP:20230923T095851Z
URL:https://taichi-sonthofen.com/events/tai-chi-einsteigerkurs-an-der-volk
 shochschule-sonthofen-2023-12-20/
SUMMARY:Tai Chi Einsteigerkurs an der Volkshochschule Sonthofen
DESCRIPTION:Interessierte\, Einsteiger und Wiedereinsteiger in Tai Chi (12 
 Termine)\n\n\n\n&nbsp\;\n\n&nbsp\;\n\n&nbsp\;\nEinstieg in Tai Chi anhand 
 der 24er Form Yang Stil (Pekingform)\, der weltweit am weitesten verbreite
 ten Tai Chi Form.\nDie Übungen im Tai Chi haben das Potential\, das körp
 erliche und geistige Allgemeinbefinden zu verbessern. Charakteristisch sin
 d die weichen\, sehr langsamen Bewegungen. Grundlagen sind Entspannung\, B
 alance\, Bewegung aus der Mitte und eine gute Verbindung zur Erde.\nFür I
 nteressierte\, Einsteiger und Wiedereinsteiger in Tai Chi.\n\nAnmeldung hi
 er über die Volkshochschule\n\n\nAlle Termine im Überblick\n22. November
  2023 – 19:00 Uhr\n29. November 2023 – 19:00 Uhr\n06. Dezember 2023 
 – 19:00 Uhr\n13. Dezember 2023 – 19:00 Uhr\n20. Dezember 2023 – 19:0
 0 Uhr\n10. Januar 2024 – 19:00 Uhr\n17. Januar 2024 – 19:00 Uhr\n24. J
 anuar 2024 – 19:00 Uhr\n31. Januar 2024 – 19:00 Uhr\n07. Februar 2024 
 – 19:00 Uhr\n21. Februar 2024 – 19:00 Uhr\n28. Februar 2024 – 19:00 
 Uhr\n
CATEGORIES:Livetraining
LOCATION:Oberallgäuer Volkshochschule\, Hindelanger Str. 37\, 87527 Sontho
 fen\, Deutschland
X-APPLE-STRUCTURED-LOCATION;VALUE=URI;X-ADDRESS=Hindelanger Str. 37\, 87527
  Sonthofen\, Deutschland;X-APPLE-RADIUS=100;X-TITLE=Oberallgäuer Volkshoc
 hschule:geo:0,0
END:VEVENT
BEGIN:VTIMEZONE
TZID:Europe/Berlin
X-LIC-LOCATION:Europe/Berlin
BEGIN:STANDARD
DTSTART:20231029T020000
TZOFFSETFROM:+0200
TZOFFSETTO:+0100
TZNAME:CET
END:STANDARD
END:VTIMEZONE
END:VCALENDAR