BEGIN:VCALENDAR
VERSION:2.0
PRODID:-//wp-events-plugin.com//7.2.3.1//EN
TZID:Europe/Berlin
X-WR-TIMEZONE:Europe/Berlin
BEGIN:VEVENT
UID:29@taichi-sonthofen.com
DTSTART;TZID=Europe/Berlin:20220504T190000
DTEND;TZID=Europe/Berlin:20220504T200000
DTSTAMP:20220328T131446Z
URL:https://taichi-sonthofen.com/events/tai-chi-kurs-vhs-2022-05-04/
SUMMARY:Tai Chi Kurs VHS
DESCRIPTION:
CATEGORIES:Livetraining
LOCATION:Oberallgäuer Volkshochschule\, Hindelanger Str. 37\, 87527 Sontho
 fen\, Deutschland
X-APPLE-STRUCTURED-LOCATION;VALUE=URI;X-ADDRESS=Hindelanger Str. 37\, 87527
  Sonthofen\, Deutschland;X-APPLE-RADIUS=100;X-TITLE=Oberallgäuer Volkshoc
 hschule:geo:0,0
END:VEVENT
BEGIN:VTIMEZONE
TZID:Europe/Berlin
X-LIC-LOCATION:Europe/Berlin
BEGIN:DAYLIGHT
DTSTART:20220327T030000
TZOFFSETFROM:+0100
TZOFFSETTO:+0200
TZNAME:CEST
END:DAYLIGHT
END:VTIMEZONE
END:VCALENDAR